Workbook

Sheet Page 1
A1: *************** INPUT FIELDS HIGHLIGHTED IN YELLOW ONLY ***************
A3: UNIVERSITY OF PITTSBURGH
A4: OFFICE OF THE CONTROLLER - SPONSORED PROJECTS ACCOUNTING
A5: SPONSORED PROJECT AWARD CLOSING MEMORANDUM
A7: University PRISM Account Number | G7: Date Prepared:
A8: UPMC Account Number (if applicable)
A9: Principal Investigator
A10: Award End Date
A11: Request Type (select from drop-down) | G11: Lvl Rpt Date:
A13: Line No. | H13: Amount
B14: Award Budget:
A15: Line 1 | B15: Award Budget As of Award End Date | H15: 0
A16: Line 2 | B16: Adjustments to Award Budget Not Reflected in Line 1 | H16: 0
A17: Line 3 | B17: Final Award Budget (sum of Lines 1 and 2) | H17: =SUM(H15:H16) -> 0
B19: Cost Incurred and Accrued:
A20: Line 4 | B20: Recorded Costs | F20: Level Report as of Date: | H20: 0
A21: Line 5 | B21: Unrecorded Costs or Credits from page 2 (a) | H21: =+'Page 2'!F32+'Page 2'!G32 -> 0
A22: Line 6 | B22: Unliquidated Obligations for Training Grants from page 2 (b) | F22: New Project ID: | H22: =+'Page 2'!F57+'Page 2'!G57 -> 0
A23: Line 7 | B23: Subtotal (sum of Lines 4, 5 and 6) | H23: =SUM(H20:H22) -> 0
B25: University Rate Adjustments:
A26: Line 8 | B26: F&A Cost Rate Adjustments | H26: 0
A27: Line 9 | B27: Fringe Benefit Rate Adjustments | H27: 0
A28: Line 10 | B28: Subtotal (sum of Lines 8 and 9) | H28: =SUM(H26:H27) -> 0
B30: Total Costs:
A31: Line 11 | B31: Total Estimated Costs Incurred and Accrued (sum of Lines 7 and 10) | H31: =H23+H28 -> 0
B33: Revenue (leave blank if not applicable):
A34: Line 12 | B34: Total of Invoices issued to Sponsor by performing department (e.g, Clinical Trials) | H34: 0
A35: Line 13 | B35: Total of cash payments received in advance of work performed or costs incurred. | H35: 0
B37: Account Surplus or Deficit Balance
A38: Line 14 | B38: Amount Under/<Over> Budget (Line 3 minus Line 11) | H38: =+H17-H31 -> 0
A39: Line 15 | B39: Carryforward Amount - Automatic/Approved/Pending Approval | H39: 0
B41: Disposition of Residual Account Balance1:
A42: Line 16 | B42: Revenues in Excess of Expenditures / Amount to be Returned to the Agency | H42: =IF(H35-H31>0,H35-H31,0) -> 0
A43: Line 17 | B43: Overdraft Account/Amount to be Written Off (if >~$50.00) | H43: =IF(H38<0,+H38,0) -> 0
A44: Line 18 | B44: Amount Available for Transfer to Discretionary Account 1 | H44: =+IF(H34-H31<0,0,H34-H31) -> 0
A45: Line 19 | B45: Total | H45: =SUM(H42:H44) -> 0
A47: Comments:
A54: Enter name of preparer. SPA accepts electronic submission as acceptance and does not require any physical signatures on this closing memorandum. However, if your school's policy requires them, optional lines are provided below.
A57: Prepared by:
B58: Name | H58: Date
...

Sheet Page 2
A1: UNIVERSITY OF PITTSBURGH
A2: OFFICE OF THE CONTROLLER - SPONSORED PROJECTS ACCOUNTING
A3: SPONSORED PROJECT AWARD CLOSING MEMORANDUM WORKSHEET
A5: PRISM Account Number | C5: =IF('Page 1'!D7="","",'Page 1'!D7) | F5: Award End Date: | G5: =IF('Page 1'!D10="","",'Page 1'!D10)
A7: Itemize all trailing charges and credit transactions on this worksheet and return it with the Closing Memorandum for this award.
A8: Additional pages may be added if needed.
B10: A. Trailing Charge and Credit Transactions
B12: Charge/(Credit) | F12: Column A | G12: Column B
B13: Subcode | C13: Description of Transaction | F13: MTDC included item | G13: MTDC excluded item
C29: See attached continuation sheet (subtotals from page 3) | F29: =+'Page 3'!F38 -> 0 | G29: =+'Page 3'!G38 -> 0
B30: Subtotal: | F30: =SUM(F14:F29) -> 0 | G30: =SUM(G14:G29) -> 0
B31: 8350 | C31: F&A Rate @ | D31: 0 | E31: (a): | F31: =ROUND(F30*D31,2) -> 0 | G31: Nonapplicable
B32: Total: | F32: =F31+F30 -> 0 | G32: =G30 -> 0
B33: Total Trailing Transactions (Column A + Column B) (b): | G33: =+F32+G32 -> 0
B36: B. Unliquidated Obligations for Training Grants | E36: (New Project ID: | F36: =IF('Page 1'!G20="","",'Page 1'!G20) | G36: )
B38: Charge/(Credit) | F38: Column A | G38: Column B
B39: Subcode | C39: Description of Transaction | F39: MTDC included item | G39: MTDC excluded item
C54: See attached continuation sheet (subtotals from page 3) | F54: =+'Page 3'!F71 -> 0 | G54: =+'Page 3'!G71 -> 0
B55: Subtotal: | F55: =SUM(F40:F54) -> 0 | G55: =SUM(G40:G54) -> 0
B56: 8350 | C56: F&A Rate @ | D56: 0.08 | E56: (b): | F56: =ROUND(F55*D56,2) -> 0 | G56: Nonapplicable
B57: Total: | F57: =SUM(F55:F56) -> 0 | G57: =+G55 -> 0
B58: Total Unliquidated Obligations (Column A + Column B) (c): | G58: =+F57+G57 -> 0
A60: (a) Multiply the MTDC base by the appropriate indirect cost rate.
A61: (b) Record the Total Trailing Transactions on line 5 of the Closing Memorandum.
A62: (c) Record the Total Unliquidated Obligations on line 6 of the Closing Memorandum.
A64: NOTE:
A65: ● Attach supporting documents for each trailing transaction. In order to facilitate closing of the award, include copies of the appropriate
A66: financial accounting forms (e.g. invoices, requisitions, SPARs, transfers, etc). DO NOT ATTACH LEVEL REPORTS.
A68: ● Sponsored Projects Accounting will forward a revised copy of the Closing Memorandum if any changes are made.
A70: ● Once this award is reported to the agency, the department must monitor the account until all trailing charges and credits
A71: are recorded and the account is balanced.
A73: ● This Closing Memorandum should represent the best and final information available to the department. Submission of
A74: multiple revisions is highly discouraged.

Sheet Page 3
A1: UNIVERSITY OF PITTSBURGH
A2: OFFICE OF THE CONTROLLER - SPONSORED PROJECTS ACCOUNTING
A3: SPONSORED PROJECT AWARD CLOSING MEMORANDUM WORKSHEET (CONTINUED)
A5: PRISM Account Number | C5: =IF('Page 1'!D7="","",'Page 1'!D7) | F5: Award End Date: | G5: =IF('Page 1'!D10="","",'Page 1'!D10)
B7: A. Trailing Charge and Credit Transactions (continued from page 2)
B9: Charge/(Credit) | F9: Column A | G9: Column B
B10: Subcode | C10: Description of Transaction | F10: MTDC included item | G10: MTDC excluded item
B38: Subtotal: | F38: =SUM(F11:F37) -> 0 | G38: =SUM(G11:G37) -> 0
B40: B. Unliquidated Obligations for Training Grants (continued from page 2)
B42: Charge/(Credit) | F42: Column A | G42: Column B
B43: Subcode | C43: Description of Transaction | F43: MTDC included item | G43: MTDC excluded item
B71: Subtotal: | F71: =SUM(F44:F70) -> 0 | G71: =SUM(G44:G70) -> 0

Sheet Schedule-Close to Master
A1: Summary of University Master/Sub Accounts Under Agency Award Number:
A3: Instructions: Re-enter summary information by line item from the detail Closing Memos by account/project. Agree total of Column C to the Notice of Award (NOA). Complete Column H indicating treatment of any deficit balances as Close to Master or Write-off (w/o). Defiict balances in Column G will result in Column H being highlighted in yellow for completion.
B6: A | C6: B | D6: C | E6: D | F6: E | G6: F | H6: G | I6: H
D7: (A+B) | G7: (D+E) | H7: (C-F)
A8: 05.93xxx.10xxxx Account | B8: From Line 1 Award Budget As of Award End Date | C8: From Line 2 Adjustments to Award Budget | D8: Final Award Budget | E8: From Line 4 Recorded Costs | F8: From Line 5 Unrecorded Costs or Credits | G8: Total Costs | H8: Account Surplus (Deficit*) Balance | I8: If Deficit - indicate if to close to master or w/o
A9: Enter Master Account here | B9: 0 | C9: 0 | D9: =+B9+C9 -> 0 | E9: 0 | F9: 0 | G9: =E9+F9 -> 0 | H9: =D9-G9 -> 0
A10: Enter Sub Account(s) here | B10: 0 | C10: 0 | D10: =+B10+C10 -> 0 | E10: 0 | F10: 0 | G10: =E10+F10 -> 0 | H10: =D10-G10 -> 0
B11: 0 | C11: 0 | D11: =+B11+C11 -> 0 | E11: 0 | F11: 0 | G11: =E11+F11 -> 0 | H11: =D11-G11 -> 0
B12: 0 | C12: 0 | D12: =+B12+C12 -> 0 | E12: 0 | F12: 0 | G12: =E12+F12 -> 0 | H12: =D12-G12 -> 0
B13: 0 | C13: 0 | D13: =+B13+C13 -> 0 | E13: 0 | F13: 0 | G13: =E13+F13 -> 0 | H13: =D13-G13 -> 0
B14: 0 | C14: 0 | D14: =+B14+C14 -> 0 | E14: 0 | F14: 0 | G14: =E14+F14 -> 0 | H14: =D14-G14 -> 0
B15: 0 | C15: 0 | D15: =+B15+C15 -> 0 | E15: 0 | F15: 0 | G15: =E15+F15 -> 0 | H15: =D15-G15 -> 0
B16: 0 | C16: 0 | D16: =+B16+C16 -> 0 | E16: 0 | F16: 0 | G16: =E16+F16 -> 0 | H16: =D16-G16 -> 0
B17: 0 | C17: 0 | D17: =+B17+C17 -> 0 | E17: 0 | F17: 0 | G17: =E17+F17 -> 0 | H17: =D17-G17 -> 0
B18: 0 | C18: 0 | D18: =+B18+C18 -> 0 | E18: 0 | F18: 0 | G18: =E18+F18 -> 0 | H18: =D18-G18 -> 0
B19: 0 | C19: 0 | D19: =+B19+C19 -> 0 | E19: 0 | F19: 0 | G19: =E19+F19 -> 0 | H19: =D19-G19 -> 0
B20: 0 | C20: 0 | D20: =+B20+C20 -> 0 | E20: 0 | F20: 0 | G20: =E20+F20 -> 0 | H20: =D20-G20 -> 0
B21: 0 | C21: 0 | D21: =+B21+C21 -> 0 | E21: 0 | F21: 0 | G21: =E21+F21 -> 0 | H21: =D21-G21 -> 0
B22: 0 | C22: 0 | D22: =+B22+C22 -> 0 | E22: 0 | F22: 0 | G22: =E22+F22 -> 0 | H22: =D22-G22 -> 0
... B35: 0 | C35: 0 | D35: =+B35+C35 -> 0 | E35: 0 | F35: 0 | G35: =E35+F35 -> 0 | H35: =D35-G35 -> 0
A36: GRAND TOTAL | B36: =SUBTOTAL(109,B9:B35) -> 0 | C36: =SUBTOTAL(109,C9:C35) -> 0 | D36: =SUBTOTAL(109,D9:D35) -> 0 | E36: =SUBTOTAL(109,E9:E35) -> 0 | F36: =SUBTOTAL(109,F9:F35) -> 0 | G36: =SUBTOTAL(109,G9:G35) -> 0 | H36: =SUBTOTAL(109,H9:H35) -> 0 | I36: =IF(H36<0, "Total deficit to be w/o as indicated within individual closing memos","")
D37: must match NOA(s)
A39: *Deficit balance - indicate if deficit on individual account is to be covered by surplus on related projects or if write off is needed

Sheet Instructions - Page 1
A1: UNIVERSITY OF PITTSBURGH
A2: OFFICE OF THE CONTROLLER - SPONSORED PROJECTS ACCOUNTING
A4: SPONSORED PROJECT AWARD CLOSING MEMORANDUM
A5: INSTRUCTIONS - PAGE 1
A7: Award Budget:
A8: Line 1 | B8: Enter the award budget from Notice of Award, or the Fiscal Panther Hub (Monthly Statement of Grants Adminstration).
A10: Line 2 | B10: Enter any unrecorded award budget modifications or amendments.
A12: Line 3 | B12: This total represents final award budget.
A14: Cost Incurred and Accrued:
A15: Line 4 | B15: Enter costs recorded as of the end date of the award from the Fiscal Panther Hub. This can be retrieved from the Monthly Statement, Grants Ending or Grants Administration dashboards.
A17: Line 5 | B17: Enter any accrued or trailing charges or credits that are unrecorded as of the date of this analysis.
A19: Line 6 | B19: Enter total unpaid costs to be paid in the following year. See Chapter 11.3.13.5 of the NIH Grants Policy Statement. Provide Project ID for the follow-on year, if available.
A21: Line 7 | B21: This subtotal represents final estimated costs prior to rate adjustments.
A23: University Rate Adjustments:
A24: Line 8 | B24: Enter any required final F&A cost rate adjustments such as changes to MTDC inclusions and exclusions, year-to-year rates changes, or corrections to incorrect rates applied.
A26: Line 9 | B26: Enter any required final fringe benefit cost rate adjustments such as federal vs. non-federal rates applied, disallowed or capped rates, or erroneous rates.
A28: Line 10 | B28: This subtotal represents the total of any proposed rate adjustments.
A30: Total Costs:
A31: Line 11 | B31: Represents total estimated costs incurred and accrued on the award to be reported to the agency.
A33: Revenue:
A34: Line 12 | B34: Enter total invoiced by performing department. Must reconcile to SPA cash collected.
A35: Line 13 | B35: Enter total payments received in advance of performance/costs. Must reconcile to SPA cash collected.
A37: Account Surplus or Deficit Balance:
A38: Line 14 | B38: Represents the amount the award is either under or over the final award budget.
A40: Line 15 | B40: Represents the carryforward requested by the Department or approved by the sponsor.
A42: Disposition of Residual Account Balance:
A43: Line 16 | B43: Represents the amount of the award budget to be deobligated and/or residual funds to be returned to the sponsor.
A45: Line 17 | B45: Represents the amount of the award overdraft to be charged to the Departmental account provided.
A47: Line 18 | B47: Represents the amount of residual funds on the award to be transferred to the Entity 04 Discretionary account provided.
B48: Note: Residual funds on an award cannot be transferred if the original source of the funds is a governmental source, even if we are instructed to do so by the sponsor.
A50: Line 19 | B50: Represents the summation of the disposition of the total residual account balance on the award.

Sheet Instructions - Pages 2 & 3
A1: UNIVERSITY OF PITTSBURGH
A2: OFFICE OF THE CONTROLLER - SPONSORED PROJECTS ACCOUNTING
A4: SPONSORED PROJECT AWARD CLOSING MEMORANDUM WORKSHEET
A5: INSTRUCTIONS - PAGES 2 & 3
A8: The Prism Account Number and Award End Date fields will be automatically filled when the corresponding fields are completed on Page 1.
A11: A. Trailing Charge and Credit Transactions:
A12: Enter the subcode, transaction description and amount in the corresponding columns for each transaction that is expected to post to the project on the PRISM general ledger. Be sure to enter the amount in either the "MTDC included" or the "MTDC excluded" column based on subcode and type of award.
A14: Continue on page 3 if necessary. Subtotals will carryforward to Page 2.
A16: Then enter the project's F&A rate (cell D32). This will cause the indirect costs associated with the MTDC total to be automatically calculated.
A19: B. Unliquidated Obligations for Training Grants:
A20: Enter the subcode, transaction description and amount in the corresponding columns for each transaction that is expected to post to the project on the PRISM general ledger. Be sure to enter the amount in either the "MTDC included" or the "MTDC excluded" column based on subcode and type of award.
A22: Continue on page 3 if necessary. Subtotals will carryforward to Page 2.
... A26: The New Project ID field will be automatically filled when the corresponding field is completed on Page 1.
