Workbook

Sheet NCE Template
A1: SCENARIO 2 - Newly Cap Eligible after Retroactive Increase
A2: UNIVERSITY OF PITTSBURGH | D2: Effective Salary Cap | F2: 225700
A3: Retroactive Salary Adjustment Template - Newly Cap Eligible | D3: Annualized Retro Not Subject to CS | F3: =(F21/B15)*12 -> #DIV/0!
A4: For Faculty Newly Over the DHHS Salary Cap | D4: Effective MCS Base | F4: =F2+F3 -> #DIV/0!
A5: Instruction Guide
D6: Faculty Member:
A7: Institutional Base Salary (IBS) Calculation
D8: Percentage FTE:
A9: Computed Contract Salary | B9: =F29 -> #DIV/0! | F9: Retro Month | H9: Regular Salary
D10: Effective Allowable Salary Rate | F10: =F4/B21/(B11/12) -> #DIV/0! | H10: =F2/((F13/B15)/(B11/12)+B19) -> #DIV/0!
A11: Length of Contract
D12: Month of Pay IBS Calculation
A13: Annualized Salary | B13: =(B9/B11)*12 -> #DIV/0! | D13: New Annual Salary
A15: Percentage FTE | B15: =E8 -> 0 | D15: Former Annual Salary
A17: Annualized Salary @ 1 FTE | B17: =B13/B15 -> #DIV/0! | D17: Monthly Cap rate | F17: =(F2/12)*B15 -> 0
D18: Former Monthly Salary | F18: =F15/B11 -> #DIV/0!
A19: Administrative Supplements | B19: 0 | D19: Increase Not Subject to Cost Sharing | F19: =F17-F18 -> #DIV/0!
F20: =B24 -> 0
A21: Annualized IBS | B21: =B17+B19 -> #DIV/0! | D21: Retro Adj in Pay Not Subject to MCS | F21: =F19*F20 -> #DIV/0!
D23: New Monthly Salary | F23: =F13/B11 -> #DIV/0!
A24: # of Months of Retro Adj | D24: Plus Retro Increase Included in Pay | F24: =(F13-F15)*(B24/B11) -> #DIV/0!
D26: Total Salary Paid Including Retro | F26: =SUM(F23:F24) -> #DIV/0!
F28: X 12
D29: Salary Plus Retro Annualized for MCS | F29: =F26*12 -> #DIV/0!
E31: MCS - Month of Retro Pay | H31: MCS - All Subsequent Months
A32: Proposal/Award # | C32: Proposed/Actual Effort % | E32: Maximum Allowable Effort Distribution to Award | F32: Required Cost Sharing % | H32: Allowable Effort Distribution to Award | I32: Required Cost Sharing % | K32: Month of Retro Pay 'M' Line Actual Effort | L32: Month of Retro Pay 'R' Line Actual Effort/Cost Sharing %
E34: =TRUNC((C34*$F$10),4) -> #DIV/0! | F34: =C34-E34 -> #DIV/0! | H34: =TRUNC((C34*$H$10),4) -> #DIV/0! | I34: =C34-H34 -> #DIV/0! | K34: =E34/$H$10 -> #DIV/0! | L34: =F34-(K34-E34) -> #DIV/0!
E36: =TRUNC((C36*$F$10),4) -> #DIV/0! | F36: =C36-E36 -> #DIV/0! | H36: =TRUNC((C36*$H$10),4) -> #DIV/0! | I36: =C36-H36 -> #DIV/0! | K36: =E36/$H$10 -> #DIV/0! | L36: =F36-(K36-E36) -> #DIV/0!
E38: =TRUNC((C38*$F$10),4) -> #DIV/0! | F38: =C38-E38 -> #DIV/0! | H38: =TRUNC((C38*$H$10),4) -> #DIV/0! | I38: =C38-H38 -> #DIV/0! | K38: =E38/$H$10 -> #DIV/0! | L38: =F38-(K38-E38) -> #DIV/0!
E40: =TRUNC((C40*$F$10),4) -> #DIV/0! | F40: =C40-E40 -> #DIV/0! | H40: =TRUNC((C40*$H$10),4) -> #DIV/0! | I40: =C40-H40 -> #DIV/0! | K40: =E40/$H$10 -> #DIV/0! | L40: =F40-(K40-E40) -> #DIV/0!
E42: =TRUNC((C42*$F$10),4) -> #DIV/0! | F42: =C42-E42 -> #DIV/0! | H42: =TRUNC((C42*$H$10),4) -> #DIV/0! | I42: =C42-H42 -> #DIV/0! | K42: =E42/$H$10 -> #DIV/0! | L42: =F42-(K42-E42) -> #DIV/0!
E44: =TRUNC((C44*$F$10),4) -> #DIV/0! | F44: =C44-E44 -> #DIV/0! | H44: =TRUNC((C44*$H$10),4) -> #DIV/0! | I44: =C44-H44 -> #DIV/0! | K44: =E44/$H$10 -> #DIV/0! | L44: =F44-(K44-E44) -> #DIV/0!
E46: =TRUNC((C46*$F$10),4) -> #DIV/0! | F46: =C46-E46 -> #DIV/0! | H46: =TRUNC((C46*$H$10),4) -> #DIV/0! | I46: =C46-H46 -> #DIV/0! | K46: =E46/$H$10 -> #DIV/0! | L46: =F46-(K46-E46) -> #DIV/0!
E48: =TRUNC((C48*$F$10),4) -> #DIV/0! | F48: =C48-E48 -> #DIV/0! | H48: =TRUNC((C48*$H$10),4) -> #DIV/0! | I48: =C48-H48 -> #DIV/0! | K48: =E48/$H$10 -> #DIV/0! | L48: =F48-(K48-E48) -> #DIV/0!
B51: Totals | C51: =SUM(C34:C48) -> 0

Sheet SPAR Detail
A1: Retroactive Salary Adjustment Template - Newly Cap Eligible
A2: For Faculty Newly Over the DHHS Salary Cap
A3: SPAR Presentation
A6: Effort Reporting and Distribution
A7: Begin Date | B7: End Date | C7: Proposal/Award # | D7: Cost Share Code | E7: Actual Effort | F7: Dist %
A9: 01-SEP-XXXX | B9: 30-SEP-XXXX | C9: ='NCE Template'!A34 -> 0 | D9: M | E9: ='NCE Template'!K34 -> #DIV/0! | F9: ='NCE Template'!E34 -> #DIV/0! | H9: Note:
A10: 01-SEP-XXXX | B10: 30-SEP-XXXX | C10: =C9 -> 0 | D10: R | E10: ='NCE Template'!L34 -> #DIV/0! | F10: =E10-E30 -> #DIV/0! | H10: 'M' line percentages in the Dist % column will be
A11: 01-SEP-XXXX | B11: 30-SEP-XXXX | C11: ='NCE Template'!A36 -> 0 | D11: M | E11: ='NCE Template'!K36 -> #DIV/0! | F11: ='NCE Template'!E36 -> #DIV/0! | H11: calculated by SPAR and may differ from amounts at
A12: 01-SEP-XXXX | B12: 30-SEP-XXXX | C12: =C11 -> 0 | D12: R | E12: ='NCE Template'!L36 -> #DIV/0! | F12: =E12-E32 -> #DIV/0! | H12: left by .01%.
A13: 01-SEP-XXXX | B13: 30-SEP-XXXX | C13: ='NCE Template'!A38 -> 0 | D13: M | E13: ='NCE Template'!K38 -> #DIV/0! | F13: ='NCE Template'!E38 -> #DIV/0! | H13: These differences are due to rounding and are
A14: 01-SEP-XXXX | B14: 30-SEP-XXXX | C14: =C13 -> 0 | D14: R | E14: ='NCE Template'!L38 -> #DIV/0! | F14: =E14-E34 -> #DIV/0! | H14: acceptable.
A15: 01-SEP-XXXX | B15: 30-SEP-XXXX | C15: ='NCE Template'!A40 -> 0 | D15: M | E15: ='NCE Template'!K40 -> #DIV/0! | F15: ='NCE Template'!E40 -> #DIV/0!
A16: 01-SEP-XXXX | B16: 30-SEP-XXXX | C16: =C15 -> 0 | D16: R | E16: ='NCE Template'!L40 -> #DIV/0! | F16: =E16-E36 -> #DIV/0!
A17: 01-SEP-XXXX | B17: 30-SEP-XXXX | C17: ='NCE Template'!A42 -> 0 | D17: M | E17: ='NCE Template'!K42 -> #DIV/0! | F17: ='NCE Template'!E42 -> #DIV/0!
A18: 01-SEP-XXXX | B18: 30-SEP-XXXX | C18: =C17 -> 0 | D18: R | E18: ='NCE Template'!L42 -> #DIV/0! | F18: =E18-E38 -> #DIV/0!
A19: 01-SEP-XXXX | B19: 30-SEP-XXXX | C19: ='NCE Template'!A44 -> 0 | D19: M | E19: ='NCE Template'!K44 -> #DIV/0! | F19: ='NCE Template'!E44 -> #DIV/0!
A20: 01-SEP-XXXX | B20: 30-SEP-XXXX | C20: =C19 -> 0 | D20: R | E20: ='NCE Template'!L44 -> #DIV/0! | F20: =E20-E40 -> #DIV/0!
A21: 01-SEP-XXXX | B21: 30-SEP-XXXX | C21: ='NCE Template'!A46 -> 0 | D21: M | E21: ='NCE Template'!K46 -> #DIV/0! | F21: ='NCE Template'!E46 -> #DIV/0!
A22: 01-SEP-XXXX | B22: 30-SEP-XXXX | C22: =C21 -> 0 | D22: R | E22: ='NCE Template'!L46 -> #DIV/0! | F22: =E22-E42 -> #DIV/0!
A23: 01-SEP-XXXX | B23: 30-SEP-XXXX | C23: ='NCE Template'!A48 -> 0 | D23: M | E23: ='NCE Template'!K48 -> #DIV/0! | F23: ='NCE Template'!E48 -> #DIV/0!
A24: 01-SEP-XXXX | B24: 30-SEP-XXXX | C24: =C23 -> 0 | D24: R | E24: ='NCE Template'!L48 -> #DIV/0! | F24: =E24-E44 -> #DIV/0!
A27: Cost Sharing for Effort Reporting
A28: Begin Date | B28: End Date | C28: Proposal/Award # | D28: Cost Share Code | E28: CS%
A29: 01-SEP-XXXX | B29: 30-SEP-XXXX | C29: =C9 -> 0 | D29: M | E29: =E9-F9 -> #DIV/0!
A30: 01-SEP-XXXX | B30: 30-SEP-XXXX | C30: =C10 -> 0 | D30: R | E30: ='NCE Template'!L34 -> #DIV/0!
A31: 01-SEP-XXXX | B31: 30-SEP-XXXX | C31: =C11 -> 0 | D31: M | E31: =E11-F11 -> #DIV/0!
A32: 01-SEP-XXXX | B32: 30-SEP-XXXX | C32: =C12 -> 0 | D32: R | E32: ='NCE Template'!L36 -> #DIV/0!
A33: 01-SEP-XXXX | B33: 30-SEP-XXXX | C33: =C13 -> 0 | D33: M | E33: =E13-F13 -> #DIV/0!
A34: 01-SEP-XXXX | B34: 30-SEP-XXXX | C34: =C14 -> 0 | D34: R | E34: ='NCE Template'!L38 -> #DIV/0!
A35: 01-SEP-XXXX | B35: 30-SEP-XXXX | C35: =C15 -> 0 | D35: M | E35: =E15-F15 -> #DIV/0!
A36: 01-SEP-XXXX | B36: 30-SEP-XXXX | C36: =C16 -> 0 | D36: R | E36: ='NCE Template'!L40 -> #DIV/0!
A37: 01-SEP-XXXX | B37: 30-SEP-XXXX | C37: =C17 -> 0 | D37: M | E37: =E17-F17 -> #DIV/0!
A38: 01-SEP-XXXX | B38: 30-SEP-XXXX | C38: =C18 -> 0 | D38: R | E38: ='NCE Template'!L42 -> #DIV/0!
A39: 01-SEP-XXXX | B39: 30-SEP-XXXX | C39: =C19 -> 0 | D39: M | E39: =E19-F19 -> #DIV/0!
A40: 01-SEP-XXXX | B40: 30-SEP-XXXX | C40: =C20 -> 0 | D40: R | E40: ='NCE Template'!L44 -> #DIV/0!
A41: 01-SEP-XXXX | B41: 30-SEP-XXXX | C41: =C21 -> 0 | D41: M | E41: =E21-F21 -> #DIV/0!
A42: 01-SEP-XXXX | B42: 30-SEP-XXXX | C42: =C22 -> 0 | D42: R | E42: ='NCE Template'!L46 -> #DIV/0!
A43: 01-SEP-XXXX | B43: 30-SEP-XXXX | C43: =C23 -> 0 | D43: M | E43: =E23-F23 -> #DIV/0!
A44: 01-SEP-XXXX | B44: 30-SEP-XXXX | C44: =C24 -> 0 | D44: R | E44: ='NCE Template'!L48 -> #DIV/0!
